BEGIN:VCALENDAR
VERSION:2.0
PRODID:-//Tauchschule Westerwald - ECPv6.10.2//NONSGML v1.0//EN
CALSCALE:GREGORIAN
METHOD:PUBLISH
X-ORIGINAL-URL:https://tauchschule-westerwald.de
X-WR-CALDESC:Veranstaltungen für Tauchschule Westerwald
REFRESH-INTERVAL;VALUE=DURATION:PT1H
X-Robots-Tag:noindex
X-PUBLISHED-TTL:PT1H
BEGIN:VTIMEZONE
TZID:Europe/Berlin
BEGIN:DAYLIGHT
TZOFFSETFROM:+0100
TZOFFSETTO:+0200
TZNAME:CEST
DTSTART:20260329T010000
END:DAYLIGHT
BEGIN:STANDARD
TZOFFSETFROM:+0200
TZOFFSETTO:+0100
TZNAME:CET
DTSTART:20261025T010000
END:STANDARD
END:VTIMEZONE
BEGIN:VEVENT
DTSTART;TZID=Europe/Berlin:20260212T183000
DTEND;TZID=Europe/Berlin:20260212T203000
DTSTAMP:20260420T000559
CREATED:20210110T103842Z
LAST-MODIFIED:20260111T150134Z
UID:2292-1770921000-1770928200@tauchschule-westerwald.de
SUMMARY:Orientierung - Sonderbrevet
DESCRIPTION:Wir bieten wieder das Sonderbrevet Orientierung UW / Kompasstauchen an. \nKosten: \nPreis: 179.- € minus Clubrabatt = 160\,00 Euro \nInkl. Brevetierung im Pass \nMin. Teilnehmer: 2 \n  \nVoraussetzungen: \nOpen Water Diver / CMAS*\, Mindestalter 15 Jahre \n  \nAnmeldung: \nWir brauchen nur einen Theorie-Abend!! Bitte tragt eure möglichen Termine ein. Wir nehmen den ersten Abend\, an dem alle Teilnehmer können. \nBitte hier anmelden.
URL:https://tauchschule-westerwald.de/event/orientierung-sonderbrevet/
CATEGORIES:Diving
ATTACH;FMTTYPE=image/jpeg:https://tauchschule-westerwald.de/wp-content/uploads/Tauchschule/Kompassset.jpg
END:VEVENT
END:VCALENDAR