BEGIN:VCALENDAR
VERSION:2.0
PRODID:-//Tauchschule Westerwald - ECPv6.10.2//NONSGML v1.0//EN
CALSCALE:GREGORIAN
METHOD:PUBLISH
X-WR-CALNAME:Tauchschule Westerwald
X-ORIGINAL-URL:https://tauchschule-westerwald.de
X-WR-CALDESC:Veranstaltungen für Tauchschule Westerwald
REFRESH-INTERVAL;VALUE=DURATION:PT1H
X-Robots-Tag:noindex
X-PUBLISHED-TTL:PT1H
BEGIN:VTIMEZONE
TZID:Europe/Berlin
BEGIN:DAYLIGHT
TZOFFSETFROM:+0100
TZOFFSETTO:+0200
TZNAME:CEST
DTSTART:20260329T010000
END:DAYLIGHT
BEGIN:STANDARD
TZOFFSETFROM:+0200
TZOFFSETTO:+0100
TZNAME:CET
DTSTART:20261025T010000
END:STANDARD
END:VTIMEZONE
BEGIN:VEVENT
DTSTART;TZID=Europe/Berlin:20260622T183000
DTEND;TZID=Europe/Berlin:20260622T203000
DTSTAMP:20260419T222725
CREATED:20210110T095208Z
LAST-MODIFIED:20260306T110243Z
UID:2285-1782153000-1782160200@tauchschule-westerwald.de
SUMMARY:Nitrox - Sonderbrevet
DESCRIPTION:Wir bieten wieder einen Nitrox Kurs an. \nKosten: \nPreis: 150\,- € minus Clubrabatt = 135\,00 Euro \nInkl. Brevetierung im Pass \nMin. Teilnehmer: 2 \n  \nVoraussetzungen: \nOpen Water Diver / CMAS*\, Mindestalter 16 Jahre \n  \nAnmeldung: \nBitte hier eintragen. \n 
URL:https://tauchschule-westerwald.de/event/nitrox-sonderbrevet/
CATEGORIES:Non-Diving
ATTACH;FMTTYPE=image/jpeg:https://tauchschule-westerwald.de/wp-content/uploads/2021/01/Nitrox-tanks-cut.jpg
END:VEVENT
END:VCALENDAR