BEGIN:VCALENDAR
VERSION:2.0
PRODID:-//Tauchschule Westerwald - ECPv6.10.2//NONSGML v1.0//EN
CALSCALE:GREGORIAN
METHOD:PUBLISH
X-WR-CALNAME:Tauchschule Westerwald
X-ORIGINAL-URL:https://tauchschule-westerwald.de
X-WR-CALDESC:Veranstaltungen für Tauchschule Westerwald
REFRESH-INTERVAL;VALUE=DURATION:PT1H
X-Robots-Tag:noindex
X-PUBLISHED-TTL:PT1H
BEGIN:VTIMEZONE
TZID:Europe/Berlin
BEGIN:DAYLIGHT
TZOFFSETFROM:+0100
TZOFFSETTO:+0200
TZNAME:CEST
DTSTART:20250330T010000
END:DAYLIGHT
BEGIN:STANDARD
TZOFFSETFROM:+0200
TZOFFSETTO:+0100
TZNAME:CET
DTSTART:20251026T010000
END:STANDARD
END:VTIMEZONE
BEGIN:VEVENT
DTSTART;TZID=Europe/Berlin:20250601T100000
DTEND;TZID=Europe/Berlin:20250831T180000
DTSTAMP:20260420T095126
CREATED:20230104T090001Z
LAST-MODIFIED:20250502T060210Z
UID:2278-1748772000-1756663200@tauchschule-westerwald.de
SUMMARY:Hunsfels Juni - August Termine
DESCRIPTION:Tauchen im Kalksee Hunsfels. \nTragt euch hier ein\, \n \n  \nwenn ihr dabei seid.
URL:https://tauchschule-westerwald.de/event/hunsfels-termine-april/
LOCATION:Hunsfels\, Schneckenmüllerweg 10a\, Stromberg\, 55442\, Deutschland
CATEGORIES:Diving
ATTACH;FMTTYPE=image/jpeg:https://tauchschule-westerwald.de/wp-content/uploads/2020/09/Hunsfels.jpg
END:VEVENT
END:VCALENDAR