BEGIN:VCALENDAR
VERSION:2.0
PRODID:-//Tauchschule Westerwald - ECPv6.10.2//NONSGML v1.0//EN
CALSCALE:GREGORIAN
METHOD:PUBLISH
X-WR-CALNAME:Tauchschule Westerwald
X-ORIGINAL-URL:https://tauchschule-westerwald.de
X-WR-CALDESC:Veranstaltungen für Tauchschule Westerwald
REFRESH-INTERVAL;VALUE=DURATION:PT1H
X-Robots-Tag:noindex
X-PUBLISHED-TTL:PT1H
BEGIN:VTIMEZONE
TZID:Europe/Berlin
BEGIN:DAYLIGHT
TZOFFSETFROM:+0100
TZOFFSETTO:+0200
TZNAME:CEST
DTSTART:20260329T010000
END:DAYLIGHT
BEGIN:STANDARD
TZOFFSETFROM:+0200
TZOFFSETTO:+0100
TZNAME:CET
DTSTART:20261025T010000
END:STANDARD
END:VTIMEZONE
BEGIN:VEVENT
DTSTART;TZID=Europe/Berlin:20260611T190000
DTEND;TZID=Europe/Berlin:20260611T203000
DTSTAMP:20260419T222813
CREATED:20240817T091228Z
LAST-MODIFIED:20251228T144902Z
UID:2992-1781204400-1781209800@tauchschule-westerwald.de
SUMMARY:Tarieren in Perfektion - Sonderbrevet - Perfect Bouyancy
DESCRIPTION:Wir bieten wieder das Sonderbrevet Tarieren in Perfektion / Perfect Bouyancy an. \nKosten: \nKosten: 139.- Euro  minus Clubrabatt = 125.- Euro. \nInkl. Brevetierung im Pass \nMin. Teilnehmer: 1 \n  \nVoraussetzungen: \nOpen Water Diver / CMAS*\, Mindestalter 16 Jahre \n  \nAnmeldung: \nWir brauchen nur einen Theorie-Abend!! Bitte tragt eure möglichen Termine ein. Wir nehmen den ersten Abend\, an dem alle Teilnehmer können. \nBitte hier anmelden
URL:https://tauchschule-westerwald.de/event/tarieren-in-perfektion-sonderbrevet-perfect-bouyancy/
LOCATION:Niedersachsen
CATEGORIES:Diving
ATTACH;FMTTYPE=image/jpeg:https://tauchschule-westerwald.de/wp-content/uploads/2024/08/perfect-bouyancy.jpg
END:VEVENT
END:VCALENDAR