BEGIN:VCALENDAR
VERSION:2.0
PRODID:-//Tauchschule Westerwald - ECPv6.10.2//NONSGML v1.0//EN
CALSCALE:GREGORIAN
METHOD:PUBLISH
X-WR-CALNAME:Tauchschule Westerwald
X-ORIGINAL-URL:https://tauchschule-westerwald.de
X-WR-CALDESC:Veranstaltungen für Tauchschule Westerwald
REFRESH-INTERVAL;VALUE=DURATION:PT1H
X-Robots-Tag:noindex
X-PUBLISHED-TTL:PT1H
BEGIN:VTIMEZONE
TZID:Europe/Berlin
BEGIN:DAYLIGHT
TZOFFSETFROM:+0100
TZOFFSETTO:+0200
TZNAME:CEST
DTSTART:20260329T010000
END:DAYLIGHT
BEGIN:STANDARD
TZOFFSETFROM:+0200
TZOFFSETTO:+0100
TZNAME:CET
DTSTART:20261025T010000
END:STANDARD
END:VTIMEZONE
BEGIN:VEVENT
DTSTART;TZID=Europe/Berlin:20260806T183000
DTEND;TZID=Europe/Berlin:20260806T200000
DTSTAMP:20260420T185312
CREATED:20210110T113123Z
LAST-MODIFIED:20260111T145615Z
UID:2304-1786041000-1786046400@tauchschule-westerwald.de
SUMMARY:Tauchsicherheit und Rettung - Sonderbrevet
DESCRIPTION:Wir bieten wieder das Sonderbrevet Tauchsicherheit und Rettung / Stress and Rescue an. \nKosten: \nPreis: 165- € minus Clubrabatt = 150\,00 Euro \nInkl. Brevetierung im Pass \nMin. Teilnehmer: 2 \n  \nInhalt: \n1 x Theorieabend 2h \n1 x Praxis im Pool \n1 x Praxis im See \n  \nVoraussetzungen: \nOpen Water Diver / CMAS*\, Mindestalter 16 Jahre \n  \nAnmeldung: \nBitte hier anmelden.
URL:https://tauchschule-westerwald.de/event/tauchsicherheit-und-rettung-sonderbrevet/
CATEGORIES:Diving
ATTACH;FMTTYPE=image/jpeg:https://tauchschule-westerwald.de/wp-content/uploads/2021/01/Oberschenkeltrage.jpg
END:VEVENT
BEGIN:VEVENT
DTSTART;TZID=Europe/Berlin:20260808T163000
DTEND;TZID=Europe/Berlin:20260809T010000
DTSTAMP:20260420T185312
CREATED:20210125T111616Z
LAST-MODIFIED:20260111T161954Z
UID:2326-1786206600-1786237200@tauchschule-westerwald.de
SUMMARY:Sommerfest TCWW
DESCRIPTION:Liebe Clubmitglieder\, \n  \nDas Sommerfest findet dieses Jahr statt. Wo genau\, steht noch nicht fest. \nBitte tragt euch hier ein\, \n \nEbenfalls könnt ihr dort eintragen\, wenn ihr etwas mitbringen möchtet.
URL:https://tauchschule-westerwald.de/event/grillfest-tcww/
CATEGORIES:Non-Diving
ATTACH;FMTTYPE=image/jpeg:https://tauchschule-westerwald.de/wp-content/uploads/2021/01/Grillfest-2018.jpg
END:VEVENT
END:VCALENDAR