BEGIN:VCALENDAR
VERSION:2.0
PRODID:-//Tauchschule Westerwald - ECPv6.10.2//NONSGML v1.0//EN
CALSCALE:GREGORIAN
METHOD:PUBLISH
X-ORIGINAL-URL:https://tauchschule-westerwald.de
X-WR-CALDESC:Veranstaltungen für Tauchschule Westerwald
REFRESH-INTERVAL;VALUE=DURATION:PT1H
X-Robots-Tag:noindex
X-PUBLISHED-TTL:PT1H
BEGIN:VTIMEZONE
TZID:Europe/Berlin
BEGIN:DAYLIGHT
TZOFFSETFROM:+0100
TZOFFSETTO:+0200
TZNAME:CEST
DTSTART:20210328T010000
END:DAYLIGHT
BEGIN:STANDARD
TZOFFSETFROM:+0200
TZOFFSETTO:+0100
TZNAME:CET
DTSTART:20211031T010000
END:STANDARD
BEGIN:DAYLIGHT
TZOFFSETFROM:+0100
TZOFFSETTO:+0200
TZNAME:CEST
DTSTART:20220327T010000
END:DAYLIGHT
BEGIN:STANDARD
TZOFFSETFROM:+0200
TZOFFSETTO:+0100
TZNAME:CET
DTSTART:20221030T010000
END:STANDARD
BEGIN:DAYLIGHT
TZOFFSETFROM:+0100
TZOFFSETTO:+0200
TZNAME:CEST
DTSTART:20230326T010000
END:DAYLIGHT
BEGIN:STANDARD
TZOFFSETFROM:+0200
TZOFFSETTO:+0100
TZNAME:CET
DTSTART:20231029T010000
END:STANDARD
BEGIN:DAYLIGHT
TZOFFSETFROM:+0100
TZOFFSETTO:+0200
TZNAME:CEST
DTSTART:20240331T010000
END:DAYLIGHT
BEGIN:STANDARD
TZOFFSETFROM:+0200
TZOFFSETTO:+0100
TZNAME:CET
DTSTART:20241027T010000
END:STANDARD
BEGIN:DAYLIGHT
TZOFFSETFROM:+0100
TZOFFSETTO:+0200
TZNAME:CEST
DTSTART:20250330T010000
END:DAYLIGHT
BEGIN:STANDARD
TZOFFSETFROM:+0200
TZOFFSETTO:+0100
TZNAME:CET
DTSTART:20251026T010000
END:STANDARD
BEGIN:DAYLIGHT
TZOFFSETFROM:+0100
TZOFFSETTO:+0200
TZNAME:CEST
DTSTART:20260329T010000
END:DAYLIGHT
BEGIN:STANDARD
TZOFFSETFROM:+0200
TZOFFSETTO:+0100
TZNAME:CET
DTSTART:20261025T010000
END:STANDARD
END:VTIMEZONE
BEGIN:VEVENT
DTSTART;TZID=Europe/Berlin:20260406T150000
DTEND;TZID=Europe/Berlin:20260413T100000
DTSTAMP:20260419T160457
CREATED:20251228T125554Z
LAST-MODIFIED:20251228T125554Z
UID:3060-1775487600-1776074400@tauchschule-westerwald.de
SUMMARY:Hemmoor 2026
DESCRIPTION:Es geht wieder nach Hemmoor.
URL:https://tauchschule-westerwald.de/event/hemmoor-2026/
LOCATION:Kreidesee Hemmoor\, Cuxhavener Str. 1\, Hemmoor\, Niedersachsen\, 21745\, Deutschland
CATEGORIES:Diving
ATTACH;FMTTYPE=image/jpeg:https://tauchschule-westerwald.de/wp-content/uploads/Tauchclub/JJ-Mike-with-White-Shark-1000x666.jpg
END:VEVENT
BEGIN:VEVENT
DTSTART;TZID=Europe/Berlin:20260228T180000
DTEND;TZID=Europe/Berlin:20260228T230000
DTSTAMP:20260419T160457
CREATED:20230121T110930Z
LAST-MODIFIED:20251228T161101Z
UID:2512-1772301600-1772319600@tauchschule-westerwald.de
SUMMARY:Bowling
DESCRIPTION:Wir wollen wieder bowlen gehen und ein paar Kugeln durchs Haus jagen… \nBitte tragt euch zügig – bis spätestens 15. Januar – hier ein\, wenn ihr dabei seid.
URL:https://tauchschule-westerwald.de/event/bowling/
CATEGORIES:Non-Diving
ATTACH;FMTTYPE=image/jpeg:https://tauchschule-westerwald.de/wp-content/uploads/2023/01/IMG_20230303_183800-scaled.jpg
END:VEVENT
BEGIN:VEVENT
DTSTART;TZID=Europe/Berlin:20260221T140000
DTEND;TZID=Europe/Berlin:20260221T160000
DTSTAMP:20260419T160457
CREATED:20251228T151025Z
LAST-MODIFIED:20251228T153017Z
UID:3086-1771682400-1771689600@tauchschule-westerwald.de
SUMMARY:Erste Hilfe / HLW / O2 / Tauchunfälle
DESCRIPTION:Lange hat es gedauert. Aber nun haben wir einen Termin für unseren Erste Hilfe Kurs. \nWir besprechen zusätzlich die HLW und Sauerstoffversorgung bei Tauchunfällen. \nAls Ausbilder haben wir einen Profi und ein Greenhorn 🙂 . \n  \nWenn ihr daran teilnehmen wollt / müsst 🙂 \, tragt euch bitte hier ein:
URL:https://tauchschule-westerwald.de/event/erste-hilfe-hlw-o2-tauchunfaelle/
CATEGORIES:Non-Diving
ATTACH;FMTTYPE=image/jpeg:https://tauchschule-westerwald.de/wp-content/uploads/2025/12/Erste_Hilfe.jpg
END:VEVENT
BEGIN:VEVENT
DTSTART;TZID=Europe/Berlin:20260220T180000
DTEND;TZID=Europe/Berlin:20260220T220000
DTSTAMP:20260419T160457
CREATED:20211107T071309Z
LAST-MODIFIED:20260201T072012Z
UID:2454-1771610400-1771624800@tauchschule-westerwald.de
SUMMARY:Dive4Life
DESCRIPTION:Wir tauchen wieder in Deutschlands größtem Indoor-Becken ab. \nTragt euch bitte hier bei \n \nein\, wenn ihr dabei seid.
URL:https://tauchschule-westerwald.de/event/dive4life-2/
CATEGORIES:Diving
ATTACH;FMTTYPE=image/png:https://tauchschule-westerwald.de/wp-content/uploads/2020/10/dive4life_logo-mit-Schatten-e1502199116996.png
END:VEVENT
BEGIN:VEVENT
DTSTART;TZID=Europe/Berlin:20260219T190000
DTEND;TZID=Europe/Berlin:20260219T203000
DTSTAMP:20260419T160457
CREATED:20230119T163202Z
LAST-MODIFIED:20260111T145339Z
UID:2508-1771527600-1771533000@tauchschule-westerwald.de
SUMMARY:Sonderbrevet Trockentauchen
DESCRIPTION:Nie wieder frieren beim Tauchen? \nDie Saison im heimischen See ausweiten auf 365 Tage im Jahr? \nDann muss es der Trocki werden!! \nZum sicheren Umgang mit dem Trocki sollte das Sonderbrevet “Trockentauchen” absolviert werden\, um auch versicherungstechnisch auf der sicheren Seite zu sein. \nKosten: 139.- Euro  minus Clubrabatt = 125.- Euro. \nWenn ihr dabei seid\, tragt euch bitte hier ein
URL:https://tauchschule-westerwald.de/event/sonderbrevet-trockentauchen/
CATEGORIES:Diving
ATTACH;FMTTYPE=image/jpeg:https://tauchschule-westerwald.de/wp-content/uploads/2021/01/IMG_20210116_120142_986.jpg
END:VEVENT
BEGIN:VEVENT
DTSTART;TZID=Europe/Berlin:20260212T183000
DTEND;TZID=Europe/Berlin:20260212T203000
DTSTAMP:20260419T160457
CREATED:20210110T103842Z
LAST-MODIFIED:20260111T150134Z
UID:2292-1770921000-1770928200@tauchschule-westerwald.de
SUMMARY:Orientierung - Sonderbrevet
DESCRIPTION:Wir bieten wieder das Sonderbrevet Orientierung UW / Kompasstauchen an. \nKosten: \nPreis: 179.- € minus Clubrabatt = 160\,00 Euro \nInkl. Brevetierung im Pass \nMin. Teilnehmer: 2 \n  \nVoraussetzungen: \nOpen Water Diver / CMAS*\, Mindestalter 15 Jahre \n  \nAnmeldung: \nWir brauchen nur einen Theorie-Abend!! Bitte tragt eure möglichen Termine ein. Wir nehmen den ersten Abend\, an dem alle Teilnehmer können. \nBitte hier anmelden.
URL:https://tauchschule-westerwald.de/event/orientierung-sonderbrevet/
CATEGORIES:Diving
ATTACH;FMTTYPE=image/jpeg:https://tauchschule-westerwald.de/wp-content/uploads/Tauchschule/Kompassset.jpg
END:VEVENT
BEGIN:VEVENT
DTSTART;TZID=Europe/Berlin:20260110T183000
DTEND;TZID=Europe/Berlin:20260110T230000
DTSTAMP:20260419T160457
CREATED:20210731T174356Z
LAST-MODIFIED:20260104T185340Z
UID:2013-1768069800-1768086000@tauchschule-westerwald.de
SUMMARY:Jahresbeginnfeier
DESCRIPTION:Liebe Clubmitglieder\, \nbitte tragt euch hier für unsere Jahresbeginnfeier ein. Wir freuen uns auf euer aller Kommen. \nWir beginnen das neue Tauchjahr in Selters im: \nLandhotel Adler. \nRheinstrasse 24 \n56242 Selters
URL:https://tauchschule-westerwald.de/event/jahresbeginnfeier/
CATEGORIES:Non-Diving
ATTACH;FMTTYPE=image/jpeg:https://tauchschule-westerwald.de/wp-content/uploads/2020/10/Party.jpg
END:VEVENT
BEGIN:VEVENT
DTSTART;TZID=Europe/Berlin:20260101T160000
DTEND;TZID=Europe/Berlin:20260401T100000
DTSTAMP:20260419T160457
CREATED:20260111T144759Z
LAST-MODIFIED:20260111T145928Z
UID:3107-1767283200-1775037600@tauchschule-westerwald.de
SUMMARY:Club-Wear
DESCRIPTION:Hier findet ihr den Link zur Bestellung der Clubshirts… \n  \n 
URL:https://tauchschule-westerwald.de/event/clubshirts/
CATEGORIES:Non-Diving
ATTACH;FMTTYPE=image/jpeg:https://tauchschule-westerwald.de/wp-content/uploads/2026/01/Clubshirts.jpg
END:VEVENT
BEGIN:VEVENT
DTSTART;TZID=Europe/Berlin:20260101T080000
DTEND;TZID=Europe/Berlin:20260331T170000
DTSTAMP:20260419T160457
CREATED:20211223T135929Z
LAST-MODIFIED:20251229T141614Z
UID:2468-1767254400-1774976400@tauchschule-westerwald.de
SUMMARY:Hunsfels Winter Jan - März
DESCRIPTION:Tauchen im Kalksee Hunsfels.\n\nTragt euch hier bei \n \n  \nein\, wenn ihr dabei seid.
URL:https://tauchschule-westerwald.de/event/hunsfels-winter-jan-maerz/
CATEGORIES:Diving
ATTACH;FMTTYPE=image/jpeg:https://tauchschule-westerwald.de/wp-content/uploads/2020/09/Hunsfels.jpg
END:VEVENT
BEGIN:VEVENT
DTSTART;TZID=Europe/Berlin:20251206T170000
DTEND;TZID=Europe/Berlin:20251206T220000
DTSTAMP:20260419T160457
CREATED:20241006T150716Z
LAST-MODIFIED:20251001T064146Z
UID:2092-1765040400-1765058400@tauchschule-westerwald.de
SUMMARY:Weihnachtsmarkt des TCWW
DESCRIPTION:Liebe Clubmitglieder\, \nStefan lädt wieder zu seinem Stephanus Weihnachtsmarkt bei sich zu Hause in Ransbach ein. Für warme Getränke und Speisen ist gesorgt. \nDer Termin ist der 6.12. \nBitte tragt euch HIER ein\, wenn ihr am Stephanus-Weihnachtsmarkt dabei seid.
URL:https://tauchschule-westerwald.de/event/weihnachtsmarkt-des-tcww/
CATEGORIES:Non-Diving
ATTACH;FMTTYPE=image/jpeg:https://tauchschule-westerwald.de/wp-content/uploads/2024/10/38613977594_829303e036_b.jpg
END:VEVENT
BEGIN:VEVENT
DTSTART;TZID=Europe/Berlin:20250901T100000
DTEND;TZID=Europe/Berlin:20251231T180000
DTSTAMP:20260419T160457
CREATED:20210625T143220Z
LAST-MODIFIED:20250502T060747Z
UID:2391-1756720800-1767204000@tauchschule-westerwald.de
SUMMARY:Hunsfels Sept - Dez Termine
DESCRIPTION:Tauchen im Kalksee Hunsfels. \nBucht euch bitte selbständig eure Termine unter https://www.hunsfels-tauchen.de/Startseite/#bookingwidget und \ntragt euch anschließend hier bei \n \nein\, wenn ihr dabei seid.
URL:https://tauchschule-westerwald.de/event/hunsfels-september-termine/
CATEGORIES:Diving
ATTACH;FMTTYPE=image/jpeg:https://tauchschule-westerwald.de/wp-content/uploads/2020/09/Hunsfels.jpg
END:VEVENT
BEGIN:VEVENT
DTSTART;VALUE=DATE:20250710
DTEND;VALUE=DATE:20250720
DTSTAMP:20260419T160457
CREATED:20250320T115016Z
LAST-MODIFIED:20250502T061239Z
UID:3027-1752105600-1752969599@tauchschule-westerwald.de
SUMMARY:Menorca
DESCRIPTION:Im Sommer 2025 geht es nach Menorca. Ob OWD oder Tec-Taucher\, hier ist für jeden was dabei.
URL:https://tauchschule-westerwald.de/event/mallorca-menorca/
CATEGORIES:Diving
ATTACH;FMTTYPE=image/jpeg:https://tauchschule-westerwald.de/wp-content/uploads/2025/03/Menorca.jpg
END:VEVENT
BEGIN:VEVENT
DTSTART;TZID=Europe/Berlin:20250601T100000
DTEND;TZID=Europe/Berlin:20250831T180000
DTSTAMP:20260419T160457
CREATED:20230104T090001Z
LAST-MODIFIED:20250502T060210Z
UID:2278-1748772000-1756663200@tauchschule-westerwald.de
SUMMARY:Hunsfels Juni - August Termine
DESCRIPTION:Tauchen im Kalksee Hunsfels. \nTragt euch hier ein\, \n \n  \nwenn ihr dabei seid.
URL:https://tauchschule-westerwald.de/event/hunsfels-termine-april/
LOCATION:Hunsfels\, Schneckenmüllerweg 10a\, Stromberg\, 55442\, Deutschland
CATEGORIES:Diving
ATTACH;FMTTYPE=image/jpeg:https://tauchschule-westerwald.de/wp-content/uploads/2020/09/Hunsfels.jpg
END:VEVENT
BEGIN:VEVENT
DTSTART;TZID=Europe/Berlin:20250528T160000
DTEND;TZID=Europe/Berlin:20250601T100000
DTSTAMP:20260419T160457
CREATED:20240129T070112Z
LAST-MODIFIED:20251228T125720Z
UID:2932-1748448000-1748772000@tauchschule-westerwald.de
SUMMARY:Sundhausen 2025
DESCRIPTION:Wir wollen wieder in paar Tage an die Sundhäuser Seen. \nBitte tragt euch hier ein \nwenn ihr dabei seid. \n 
URL:https://tauchschule-westerwald.de/event/sundhausen/
CATEGORIES:Diving
ATTACH;FMTTYPE=image/jpeg:https://tauchschule-westerwald.de/wp-content/uploads/2024/01/P1040242-scaled.jpg
END:VEVENT
BEGIN:VEVENT
DTSTART;TZID=Europe/Berlin:20250421T150000
DTEND;TZID=Europe/Berlin:20250428T100000
DTSTAMP:20260419T160457
CREATED:20221229T151853Z
LAST-MODIFIED:20250320T114520Z
UID:2247-1745247600-1745834400@tauchschule-westerwald.de
SUMMARY:Hemmoor 2025
DESCRIPTION:Es geht wieder nach Hemmoor.
URL:https://tauchschule-westerwald.de/event/hemmoor-2021/
LOCATION:Kreidesee Hemmoor\, Cuxhavener Str. 1\, Hemmoor\, Niedersachsen\, 21745\, Deutschland
CATEGORIES:Diving
ATTACH;FMTTYPE=image/jpeg:https://tauchschule-westerwald.de/wp-content/uploads/Tauchclub/JJ-Mike-with-White-Shark-1000x666.jpg
END:VEVENT
BEGIN:VEVENT
DTSTART;TZID=Europe/Berlin:20250401T100000
DTEND;TZID=Europe/Berlin:20250531T180000
DTSTAMP:20260419T160457
CREATED:20200925T191723Z
LAST-MODIFIED:20250502T055844Z
UID:1974-1743501600-1748714400@tauchschule-westerwald.de
SUMMARY:Hunsfels April - Mai
DESCRIPTION:Tauchen im Kalksee Hunsfels. \nTragt euch hier bei \nein\, wenn ihr dabei seid.
URL:https://tauchschule-westerwald.de/event/hunsfels-2/
LOCATION:Hunsfels\, Schneckenmüllerweg 10a\, Stromberg\, 55442\, Deutschland
CATEGORIES:Diving
ATTACH;FMTTYPE=image/jpeg:https://tauchschule-westerwald.de/wp-content/uploads/2020/09/Hunsfels.jpg
END:VEVENT
BEGIN:VEVENT
DTSTART;VALUE=DATE:20241014
DTEND;VALUE=DATE:20241024
DTSTAMP:20260419T160457
CREATED:20240129T063426Z
LAST-MODIFIED:20241010T053009Z
UID:2928-1728864000-1729727999@tauchschule-westerwald.de
SUMMARY:Herbsttour Ägypten
DESCRIPTION:Es geht nach Ägypten. \n8 Tage all inklusive Hotel. \nBitte tragt euch hier ein. (klick)
URL:https://tauchschule-westerwald.de/event/herbsttour-aegypten/
CATEGORIES:Diving
ATTACH;FMTTYPE=image/jpeg:https://tauchschule-westerwald.de/wp-content/uploads/Tauchclub/tauchclub-westerwald-plattform.jpg
END:VEVENT
BEGIN:VEVENT
DTSTART;TZID=Europe/Berlin:20240915T100000
DTEND;TZID=Europe/Berlin:20240915T170000
DTSTAMP:20260419T160457
CREATED:20200925T181613Z
LAST-MODIFIED:20241010T053537Z
UID:1961-1726394400-1726419600@tauchschule-westerwald.de
SUMMARY:Gasometer Duisburg
DESCRIPTION:Wir werden mal wieder im Gasometer Duisburg abtauchen. \nTragt euch bitte hier bei \n \nein\, wenn ihr dabei seid:
URL:https://tauchschule-westerwald.de/event/gasometer-duisburg/
LOCATION:Duisburg\, Emscherstr. 71\, Duisburg\, 47137\, Deutschland
CATEGORIES:Diving
ATTACH;FMTTYPE=image/jpeg:https://tauchschule-westerwald.de/wp-content/uploads/Tauchclub/Gasometer-small.jpg
END:VEVENT
BEGIN:VEVENT
DTSTART;TZID=Europe/Berlin:20240609T080000
DTEND;TZID=Europe/Berlin:20240609T170000
DTSTAMP:20260419T160457
CREATED:20240603T065725Z
LAST-MODIFIED:20240603T070248Z
UID:2975-1717920000-1717952400@tauchschule-westerwald.de
SUMMARY:Widdauener Seen
DESCRIPTION:Wir fahren zu den Widdauener Seen in Leverkusen. Bitte tragt euch hier rechtzeitig ein\, wenn ihr dabei seid. \nWie immer bilden wir Fahrgemeinschaften am Salzlager für diesen Tag. \nHier ein paar Infos zu diesem Tauchspot: \n\nEs gibt dort zwei aneinanderliegende Seen zum Betauchen.\nDie Seen sind beide etwa 20 m tief.\nIn Google Maps anzeigen\nWir können einen Gasgrill mitbringen\nHunde sind erlaubt\nIhr könnt eure Flaschen vor Ort füllen lassen
URL:https://tauchschule-westerwald.de/event/widdauener-seen/
CATEGORIES:Diving
ATTACH;FMTTYPE=image/jpeg:https://tauchschule-westerwald.de/wp-content/uploads/2024/06/Widdauen.jpg
END:VEVENT
BEGIN:VEVENT
DTSTART;TZID=Europe/Berlin:20240518T080000
DTEND;TZID=Europe/Berlin:20240525T220000
DTSTAMP:20260419T160457
CREATED:20230125T173144Z
LAST-MODIFIED:20231029T150848Z
UID:2602-1716019200-1716674400@tauchschule-westerwald.de
SUMMARY:Österreich Tour
DESCRIPTION:Wir fahren wieder nach Österreich. \nEgal ob Diving\, Canyoning\, Rafting\, Wandern\, oder Relaxen. Wir machen einfach alles. \nIndividuelle Anreise möglich. \nWer dabei ist\, bitte hier \neintragen
URL:https://tauchschule-westerwald.de/event/oesterreich-tour/
CATEGORIES:Diving,Non-Diving
ATTACH;FMTTYPE=image/jpeg:https://tauchschule-westerwald.de/wp-content/uploads/2023/01/Rafting-auf-der-Isar-Sport-Piraten-5.jpg
END:VEVENT
BEGIN:VEVENT
DTSTART;TZID=Europe/Berlin:20231016T080000
DTEND;TZID=Europe/Berlin:20231027T170000
DTSTAMP:20260419T160457
CREATED:20230125T052117Z
LAST-MODIFIED:20230320T085502Z
UID:2588-1697443200-1698426000@tauchschule-westerwald.de
SUMMARY:Kroatien
DESCRIPTION:Es geht wieder nach Kroatien. Ob OWD oder Tec-Taucher\, hier ist für jeden was dabei. \nTragt euch hier bei \n \n  \nein\, wenn ihr dabei seid.
URL:https://tauchschule-westerwald.de/event/kroatien/
CATEGORIES:Diving
ATTACH;FMTTYPE=image/jpeg:https://tauchschule-westerwald.de/wp-content/uploads/2023/01/malinska09_1-1.jpg
END:VEVENT
BEGIN:VEVENT
DTSTART;TZID=Europe/Berlin:20230817T150000
DTEND;TZID=Europe/Berlin:20230824T150000
DTSTAMP:20260419T160457
CREATED:20201229T153408Z
LAST-MODIFIED:20230717T045848Z
UID:2254-1692284400-1692889200@tauchschule-westerwald.de
SUMMARY:Safari 2023
DESCRIPTION:Liebe Clubmitglieder\, \nDie Safari geht in den Norden Ägytens und wir sind auf der Blue Storm. \n 
URL:https://tauchschule-westerwald.de/event/safari-2021/
CATEGORIES:Diving
ATTACH;FMTTYPE=image/jpeg:https://tauchschule-westerwald.de/wp-content/uploads/2020/12/Blue-Seas.jpg
END:VEVENT
BEGIN:VEVENT
DTSTART;TZID=Europe/Berlin:20230618T080000
DTEND;TZID=Europe/Berlin:20230618T170000
DTSTAMP:20260419T160457
CREATED:20230119T160925Z
LAST-MODIFIED:20230320T085531Z
UID:2505-1687075200-1687107600@tauchschule-westerwald.de
SUMMARY:Hitdorfer See
DESCRIPTION:Wir fahren zu den Hitdorfer Seen in Leverkusen. Bitte tragt euch rechtzeitig ein\, wenn ihr dabei seid. \nWie immer bilden wir Fahrgemeinschaften für diesen Tag.
URL:https://tauchschule-westerwald.de/event/hitdorfer-see/
CATEGORIES:Diving
ATTACH;FMTTYPE=image/jpeg:https://tauchschule-westerwald.de/wp-content/uploads/2023/01/2dc2cf4d5682bd6473764c44e13ed643.jpg
END:VEVENT
BEGIN:VEVENT
DTSTART;TZID=Europe/Berlin:20210919T100000
DTEND;TZID=Europe/Berlin:20210919T180000
DTSTAMP:20260419T160457
CREATED:20210731T154852Z
LAST-MODIFIED:20220509T144605Z
UID:2414-1632045600-1632074400@tauchschule-westerwald.de
SUMMARY:Club Event am Hunsfels
DESCRIPTION:Liebe Clubmitglieder\, \nHier könnt ihr euch für unser Club-Event am Hunsfels anmelden. \n \n  \n  \nIch habe uns schon als Gruppe angemeldet\, also nicht noch mal selbst in Hunsfels anmelden! 😉
URL:https://tauchschule-westerwald.de/event/club-event-am-hunsfels/
CATEGORIES:Diving,Non-Diving
ATTACH;FMTTYPE=image/jpeg:https://tauchschule-westerwald.de/wp-content/uploads/2020/09/Hunsfels.jpg
END:VEVENT
END:VCALENDAR